BEGIN:VCALENDAR
VERSION:2.0
PRODID:-//Bacterial Plant Diseases Programme - ECPv6.15.20//NONSGML v1.0//EN
CALSCALE:GREGORIAN
METHOD:PUBLISH
X-WR-CALNAME:Bacterial Plant Diseases Programme
X-ORIGINAL-URL:https://bacterialplantdiseases.uk
X-WR-CALDESC:Events for Bacterial Plant Diseases Programme
REFRESH-INTERVAL;VALUE=DURATION:PT1H
X-Robots-Tag:noindex
X-PUBLISHED-TTL:PT1H
BEGIN:VTIMEZONE
TZID:UTC
BEGIN:STANDARD
TZOFFSETFROM:+0000
TZOFFSETTO:+0000
TZNAME:UTC
DTSTART:20200101T000000
END:STANDARD
END:VTIMEZONE
BEGIN:VEVENT
DTSTART;TZID=UTC:20220630T140000
DTEND;TZID=UTC:20220630T160000
DTSTAMP:20260425T005216
CREATED:20220607T151610Z
LAST-MODIFIED:20220607T151847Z
UID:1540-1656597600-1656604800@bacterialplantdiseases.uk
SUMMARY:Masterclass 1: Making the Most of Interdisciplinarity
DESCRIPTION:Increasingly\, complex research challenges require interdisciplinary approaches. Increasingly\, too\, funders require interdisciplinarity. This masterclass will describe what interdisciplinarity actually is and why it is sought\, along with the challenges and opportunities it presents to researchers. However\, the emphasis of the masterclass will be on the ‘how’ of interdisciplinarity\, offering practical guidance to researchers at all career stages. \n\n\n\nThis masterclass is for BPD project teams only. If you are employed by\, studying with\, or collaborating with one of our projects and would like to attend please email us to check if you are eligible.
URL:https://bacterialplantdiseases.uk/event/making-the-most-of-interdisciplinarity/
LOCATION:Online
CATEGORIES:Project Teams only
ATTACH;FMTTYPE=image/jpeg:https://bacterialplantdiseases.uk/wp-content/uploads/2022/06/painting-g012cf69ea_640.jpg
ORGANIZER;CN="Bacterial Plant Diseases Programme":MAILTO:bacterialplantdiseases@gmail.com
END:VEVENT
BEGIN:VEVENT
DTSTART;TZID=UTC:20220511T130000
DTEND;TZID=UTC:20220511T140000
DTSTAMP:20260425T005216
CREATED:20220420T130021Z
LAST-MODIFIED:20220426T133918Z
UID:1121-1652274000-1652277600@bacterialplantdiseases.uk
SUMMARY:Innovative approaches to controlling bacterial plant diseases (webinar)
DESCRIPTION:As part of Plant Health Week\, this webinar will explore innovative biocontrol methods that could reduce the impact of bacterial plant diseases on our farms\, forests and gardens. \n\n\n\nConventional antibiotic treatments can damage the environment and are becoming less effective as bacteria evolve resistance. New approaches are urgently needed. This webinar will include three short presentations on promising new treatments and the opportunity to ask questions. \n\n\n\nTopics and speakers: \n\n\n\nBacteriophages with Dr Ville Friman (University of York and Ralstonia Phage project)Microbiome engineering with Prof James McDonald (Bangor University and Future Oak project)Disease suppressive soils with Prof Duncan Cameron (University of Sheffield and Disease Suppressive Microbes project)\n\n\n\nRegister via Eventbrite for the Zoom link \n\n\n\n(Featured image: ‘Microbe Hunting’ by Natalie Barratt of Disease Suppressive Microbes – one of the category winners in our Bac In The Picture photo competition)
URL:https://bacterialplantdiseases.uk/event/innovative-approaches-to-controlling-bacterial-plant-diseases/
LOCATION:Online
CATEGORIES:Public,Science
ATTACH;FMTTYPE=image/jpeg:https://bacterialplantdiseases.uk/wp-content/uploads/2022/04/Microbe-hunting-Natalie-Barratt-800x450-1.jpg
ORGANIZER;CN="Bacterial Plant Diseases Programme":MAILTO:bacterialplantdiseases@gmail.com
END:VEVENT
BEGIN:VEVENT
DTSTART;TZID=UTC:20220509T090000
DTEND;TZID=UTC:20220515T170000
DTSTAMP:20260425T005216
CREATED:20220426T133808Z
LAST-MODIFIED:20220426T133818Z
UID:1173-1652086800-1652634000@bacterialplantdiseases.uk
SUMMARY:Plant Health Week
DESCRIPTION:Plant Health Week 2022\, coordinated by Defra\, will be held in the UK from Monday 9 to Sunday 15 May. It also coincides with the International Day of Plant Health on 12 May 2022 which is coordinated by FAO (UN). Both events are all about celebrating the benefits of healthy plants – to help to end hunger\, reduce poverty\, protect the environment\, and boost economic development. \n\n\n\nHere are BPD HQ we have been beavering away on our plans for marking #planthealthweek and #planthealthday. In particular we want to share how a better understanding of bacterial plant diseases can contribute to keeping plants healthy. We’ll be sharing insights from our research teams\, showcasing some of our favourite plants and publishing some new blog posts. Here are some of the things you can look forward to: \n\n\n\nWebinar: Our main Plant Health Week event will be a webinar on Wednesday 11 May at 1pm. The topic is ‘Innovative approaches to controlling bacterial plant diseases’ and will feature some promising approaches being researched by our project teams. Find out more here.Plants Make Life Better: On Tuesday 10 May we’ll be encouraging everyone to post their favourite plants outside of the lab – houseplants\, tasty plants\, useful plants\, plants in art or film – with the hashtag #PlantsMakeLifeBetter Why not join in?Research In Action: On Thursday 12 May\, for International Plant Health Day\, we’ll be asking our researchers to post on social media about what they are doing in their research to help keep plants healthy with the hashtag #HelpingKeepPlantsHealthyBlog Updates: We will also be sharing some new blog posts and resources with insights into the work of our research projects.\n\n\n\nAnd that is just what we have planned! Many other organisations including RHS\, Tree Council\, Kew Gardens\, Woodland Trust and the Linnean Society are getting involved too. A highlight will be the FAO’s celebratory webinar on Thursday 12 May at 12.30pm (UK time). You can register for free here. Otherwise keep an eye on social media\, particularly #planthealthweek and #planthealthday and do join in!
URL:https://bacterialplantdiseases.uk/event/plant-health-week/
CATEGORIES:Public,Science
ATTACH;FMTTYPE=image/jpeg:https://bacterialplantdiseases.uk/wp-content/uploads/2022/04/web-banner.jpg
END:VEVENT
BEGIN:VEVENT
DTSTART;TZID=UTC:20220315T100000
DTEND;TZID=UTC:20220316T163000
DTSTAMP:20260425T005216
CREATED:20220125T143650Z
LAST-MODIFIED:20220125T143659Z
UID:891-1647338400-1647448200@bacterialplantdiseases.uk
SUMMARY:BPD Programme Mid-Term Workshop
DESCRIPTION:The two-day workshop for BPD supported project teams is a chance to meet\, network and hear updates from all the nine projects in the programme. There will also be discussions and activities relating to stakeholder engagement. \n\n\n\nWe are holding this as a hybrid event with the option to attend online or in person. \n\n\n\nThis event is for project teams and invited guests only.
URL:https://bacterialplantdiseases.uk/event/bpd-programme-mid-term-workshop/
LOCATION:Halifax Hall\, Endcliffe Vale Road\, Sheffield\, West Yorkshire\, S10 3ER\, United Kingdom
CATEGORIES:Project Teams only
ATTACH;FMTTYPE=image/jpeg:https://bacterialplantdiseases.uk/wp-content/uploads/2022/01/halifax-hall.jpg
ORGANIZER;CN="Bacterial Plant Diseases Programme":MAILTO:bacterialplantdiseases@gmail.com
END:VEVENT
BEGIN:VEVENT
DTSTART;TZID=UTC:20220216T100000
DTEND;TZID=UTC:20220216T124500
DTSTAMP:20260425T005216
CREATED:20211101T142053Z
LAST-MODIFIED:20220111T110655Z
UID:585-1645005600-1645015500@bacterialplantdiseases.uk
SUMMARY:Oak Health Stakeholder Meeting
DESCRIPTION:Do you work with oak trees? Would you like to hear about some of the latest research into Acute Oak Decline and other oak health challenges? This online event\, organised by the BAC-STOP project and supported by the Future Oak project\, will share some of the latest oak health research news and updates on current investigations and results. \n\n\n\nThe meeting is aimed at all stakeholders\, including practitioners and funders\, from organisations such as Forestry Commission England\, Defra\, universities and research organisations as well as charities such as Woodland Heritage\, National Trust\, Royal Parks\, Woodland Trust\, Natural England and Action Oak\, and individual landowners/managers. \n\n\n\nThe format of the meeting will be online PowerPoint presentations from a number of project scientists\, followed by a short discussion with the opportunity to ask questions and contribute. \n\n\n\nIf you would like to attend please complete the enrolment form here. Further joining details and the final programme will be sent to you prior to the meeting.  \n\n\n\nIf you require further information about the meeting please get in touch with either sally.simpson@forestresearch.gov.uk or sandra.denman@forestresearch.gov.uk \n\n\n\n\nRegister here
URL:https://bacterialplantdiseases.uk/event/oak-stakeholder-meeting/
CATEGORIES:Stakeholder
ATTACH;FMTTYPE=image/jpeg:https://bacterialplantdiseases.uk/wp-content/uploads/2021/11/Pretty-yello-oak-leaf-and-acorns-rotated.jpg
END:VEVENT
BEGIN:VEVENT
DTSTART;TZID=UTC:20211201T133000
DTEND;TZID=UTC:20211201T143000
DTSTAMP:20260425T005216
CREATED:20211023T174608Z
LAST-MODIFIED:20211119T125026Z
UID:439-1638365400-1638369000@bacterialplantdiseases.uk
SUMMARY:Bacterial tree diseases from past to future – how to identify\, manage and prevent new introductions
DESCRIPTION:As part of Tree Week our experts will be discussing various bacterial diseases of trees and how everyone can play their part in helping to protect trees.  \n\n\n\nFind out more about bacterial canker of ash (knotty ash) and poplar\, bacterial canker of cherry and plum\, fireblight of apples and pears\, and horse chestnut bleeding canker. The event will also discuss bacterial tree pathogens not present in UK\, the importance of biosecurity and what you can do to help.  \n\n\n\nSpeakers include: \n\n\n\nJohn Mansfield (Emeritus Professor of Plant Pathology\, Imperial College) on long-established bacterial tree diseases such as cherry/plum canker and ash cankerSarah Green (Forest Research) on more recent invasive species\, such as horse chestnut bleeding cankerAlistair Yeomans (Scheme Manager for the Plant Healthy Certification Scheme) on future threats and what YOU can do to prevent new pathogens from becoming established\n\n\n\nRegister on Eventbrite to receive the Zoom link.
URL:https://bacterialplantdiseases.uk/event/bacterial-disease-of-trees-webinar/
LOCATION:Online
CATEGORIES:Public
ATTACH;FMTTYPE=image/png:https://bacterialplantdiseases.uk/wp-content/uploads/2021/11/Tree-disease-Webinar-1Dec21_1600x900.png
ORGANIZER;CN="Bacterial Plant Diseases Programme":MAILTO:bacterialplantdiseases@gmail.com
END:VEVENT
BEGIN:VEVENT
DTSTART;TZID=UTC:20211129T093000
DTEND;TZID=UTC:20211129T113000
DTSTAMP:20260425T005216
CREATED:20211023T173543Z
LAST-MODIFIED:20211117T130626Z
UID:436-1638178200-1638185400@bacterialplantdiseases.uk
SUMMARY:Bacterial tree diseases and their impacts – ensuring a healthy future for our trees
DESCRIPTION:How have bacterial tree diseases impacted various sectors and how can science help?  \n\n\n\nThis event is for land managers\, policy makers\, horticulturalists\, farmers\, researchers and other stakeholders. It will explore how bacterial diseases can affect commercial forestry\, native woodland management and fruit trees with presentations and time for questions and discussion. \n\n\n\nConfirmed Speakers \n\n\n\nRebecca Gosling\, Conservation Evidence Officer\, Tree Health\, Woodland TrustChris Hardy\, Head of Plant and Seed Supply\, Forestry Commission EnglandRichard Harnden\, Director of Research\, Berry Gardens\n\n\n\nPanellists \n\n\n\nEric Baird\, Head Ranger at Glen Tanar Charitable TrustChris Fremantle\, Researcher\, Lecturer and ArtistHarry Watkins\, Director\, St Andrews Botanic Garden\n\n\n\nRegister on Eventbrite to receive the Zoom link
URL:https://bacterialplantdiseases.uk/event/bacterial-disease-of-trees-stakeholder-workshop/
LOCATION:Online
CATEGORIES:Stakeholder
ATTACH;FMTTYPE=image/png:https://bacterialplantdiseases.uk/wp-content/uploads/2021/10/Tree-disease-stakeholder-workshop-29Nov21_1600x900.png
ORGANIZER;CN="Bacterial Plant Diseases Programme":MAILTO:bacterialplantdiseases@gmail.com
END:VEVENT
BEGIN:VEVENT
DTSTART;TZID=UTC:20211129T000000
DTEND;TZID=UTC:20211212T235959
DTSTAMP:20260425T005216
CREATED:20210913T155138Z
LAST-MODIFIED:20211129T180440Z
UID:41-1638144000-1639353599@bacterialplantdiseases.uk
SUMMARY:Bac In the Picture Photo Competition
DESCRIPTION:We are inviting our project team members to share their adventures in plant pathology. In the field\, in the lab\, or anywhere else. Pictures that make them proud or pictures that make them laugh. Images that tell a story or spark curiosity.  \n\n\n\nThe competition is now open for voting here \n\n\n\nThe winners will be chosen by a public vote and a jury. Winners will receive plant gift vouchers and see their images featured on the BPD Programme website\, social media and publications. The competition will be open for voting from Monday 29 November to Sunday 12 December with the winners announced by Friday 17 December. \n\n\n\nCategories \n\n\n\nBac to the Field:pictures taken in the field or glasshouseBac in the Lab:Pictures taken in the laboratory including microscopyBac Together:Pictures of teams undertaking project workBac to the Future:Pictures that reflect new discoveries and understandingBac in the Game:Unusual\, eye-catching or just funny moments from research\n\n\n\n\nVote here by 12 December
URL:https://bacterialplantdiseases.uk/event/bac-in-the-picture-photo-competition/
LOCATION:Online
CATEGORIES:Public
ATTACH;FMTTYPE=image/jpeg:https://bacterialplantdiseases.uk/wp-content/uploads/2021/09/P6110098-615x340-1.jpg
ORGANIZER;CN="Bacterial Plant Diseases Programme":MAILTO:bacterialplantdiseases@gmail.com
END:VEVENT
BEGIN:VEVENT
DTSTART;TZID=UTC:20210515T000000
DTEND;TZID=UTC:20220331T235959
DTSTAMP:20260425T005216
CREATED:20211011T162609Z
LAST-MODIFIED:20220111T110822Z
UID:211-1621036800-1648771199@bacterialplantdiseases.uk
SUMMARY:Odes 2 Oaks
DESCRIPTION:What do oak trees mean to you? Can you imagine a world without them?\n\n\n\nUnfortunately our iconic oak trees face several threats from pests and diseases including Acute Oak Decline. Unchecked these threats could mean a future without oak trees in our streets\, parks and countryside. We think that our oak trees are too valuable to be lost so our researchers are working hard to find ways to prevent and treat these diseases. Our oak trees need your help too! \n\n\n\nWhat you can do\n\n\n\nCan you help us tell the story of why oaks are so valuable? Can you share what oaks mean to you? We are inviting everyone who loves oaks to submit an Ode 2 Oaks. \n\n\n\nYou can submit an ode or tribute to oaks in many different forms. For example; \n\n\n\nA photographA drawing or paintingA songA storyA poemAn object made of oakA heartfelt message explaning how oaks make you feel or why oaks are so important to you and societyOr anything else you can think of…\n\n\n\nWhat’s in it for you\n\n\n\nBy participating you’re not only helping to protect Britain’s oak trees\, you’ll also have the chance to win a £25 gift voucher and you might see your contribution featured on our website and social media. \n\n\n\nSubmissions are being gathered via this Shortstack form. The closing date for submissions is 31 March 2022. \n\n\n\n\nClick here to submit your Ode 2 Oaks\n\n\n\n\nHelp us spread the word\n\n\n\nYou can help oak trees even more by spreading the word about Odes 2 Oaks. \n\n\n\nTell your friends and family\, teacher\, work colleagues and other people you know love treesShare the word about Odes 2 Oaks on social media using #odes2oaks or retweet this tweetDownload a printable posterShare the video below
URL:https://bacterialplantdiseases.uk/event/odes-2-oaks/
LOCATION:Online
ATTACH;FMTTYPE=image/png:https://bacterialplantdiseases.uk/wp-content/uploads/2021/10/Odes-2-Oaks-poster_980x380.png
END:VEVENT
END:VCALENDAR